BEGIN:VCALENDAR
VERSION:2.0
PRODID:-//Hayfield Parish Council//Meeting Calendar//EN
CALSCALE:GREGORIAN
METHOD:PUBLISH
BEGIN:VEVENT
UID:70450-20220504@hayfield-pc.gov.uk
DTSTAMP:20260424T094053Z
DTSTART;VALUE=DATE:20220504
DTEND;VALUE=DATE:20220505
SUMMARY:Hayfield Annual Parish Council &#8211\\; May 2022
DESCRIPTION:Annual Meeting\nView details: https://hayfield-pc.gov.uk/meetings/hayfield-annual-parish-council-may-2022/
URL:https://hayfield-pc.gov.uk/meetings/hayfield-annual-parish-council-may-2022/
END:VEVENT
END:VCALENDAR
