BEGIN:VCALENDAR
VERSION:2.0
PRODID:-//Hayfield Parish Council//Meeting Calendar//EN
CALSCALE:GREGORIAN
METHOD:PUBLISH
BEGIN:VEVENT
UID:70478-20230601@hayfield-pc.gov.uk
DTSTAMP:20260424T105903Z
DTSTART;VALUE=DATE:20230601
DTEND;VALUE=DATE:20230602
SUMMARY:Hayfield Annual Parish Council &#8211\\; 1st June 2023
DESCRIPTION:Annual Meeting\nView details: https://hayfield-pc.gov.uk/meetings/hayfield-annual-parish-council-1st-june-2023/
URL:https://hayfield-pc.gov.uk/meetings/hayfield-annual-parish-council-1st-june-2023/
END:VEVENT
END:VCALENDAR
