BEGIN:VCALENDAR
VERSION:2.0
PRODID:-//Hayfield Parish Council//Meeting Calendar//EN
CALSCALE:GREGORIAN
METHOD:PUBLISH
BEGIN:VEVENT
UID:71468-20250115@hayfield-pc.gov.uk
DTSTAMP:20260422T082453Z
DTSTART;VALUE=DATE:20250115
DTEND;VALUE=DATE:20250116
SUMMARY:Finance Meeting &#8211\\; 15th January 2025
DESCRIPTION:Finance Committee Meeting\nView details: https://hayfield-pc.gov.uk/meetings/finance-15th-january-2025/
URL:https://hayfield-pc.gov.uk/meetings/finance-15th-january-2025/
END:VEVENT
END:VCALENDAR
