BEGIN:VCALENDAR
VERSION:2.0
PRODID:-//Hayfield Parish Council//Meeting Calendar//EN
CALSCALE:GREGORIAN
METHOD:PUBLISH
BEGIN:VEVENT
UID:72430-20250708@hayfield-pc.gov.uk
DTSTAMP:20260424T110316Z
DTSTART;VALUE=DATE:20250708
DTEND;VALUE=DATE:20250709
SUMMARY:Little Hayfield Advisory Group Meeting &#8211\\; 8th July 2025
DESCRIPTION:Advisory Group Meeting\nView details: https://hayfield-pc.gov.uk/meetings/little-hayfield-advisory-group-meeting-8th-july-2025/
URL:https://hayfield-pc.gov.uk/meetings/little-hayfield-advisory-group-meeting-8th-july-2025/
END:VEVENT
END:VCALENDAR
