BEGIN:VCALENDAR
VERSION:2.0
PRODID:-//Hayfield Parish Council//Meeting Calendar//EN
CALSCALE:GREGORIAN
METHOD:PUBLISH
BEGIN:VEVENT
UID:72510-20251014@hayfield-pc.gov.uk
DTSTAMP:20260424T094725Z
DTSTART;VALUE=DATE:20251014
DTEND;VALUE=DATE:20251015
SUMMARY:Little Hayfield Advisory Group &#8211\\; 14th October 2025
DESCRIPTION:Advisory Group Meeting\nView details: https://hayfield-pc.gov.uk/meetings/little-hayfield-advisory-group/
URL:https://hayfield-pc.gov.uk/meetings/little-hayfield-advisory-group/
END:VEVENT
END:VCALENDAR
