BEGIN:VCALENDAR
VERSION:2.0
PRODID:-//Hayfield Parish Council//Meeting Calendar//EN
CALSCALE:GREGORIAN
METHOD:PUBLISH
BEGIN:VEVENT
UID:72582-20260114@hayfield-pc.gov.uk
DTSTAMP:20260424T081629Z
DTSTART;VALUE=DATE:20260114
DTEND;VALUE=DATE:20260115
SUMMARY:Full Council Meeting &#8211\\; 14th January 2026
DESCRIPTION:Full Council Meeting\nView details: https://hayfield-pc.gov.uk/meetings/full-council-meeting-14th-january-2026/
URL:https://hayfield-pc.gov.uk/meetings/full-council-meeting-14th-january-2026/
END:VEVENT
END:VCALENDAR
