BEGIN:VCALENDAR
VERSION:2.0
PRODID:-//Hayfield Parish Council//Meeting Calendar//EN
CALSCALE:GREGORIAN
METHOD:PUBLISH
BEGIN:VEVENT
UID:72584-20260113@hayfield-pc.gov.uk
DTSTAMP:20260424T081528Z
DTSTART;VALUE=DATE:20260113
DTEND;VALUE=DATE:20260114
SUMMARY:LHAG Meeting &#8211\\; 13th January 2026
DESCRIPTION:Advisory Group Meeting\nView details: https://hayfield-pc.gov.uk/meetings/lhag-meeting-13th-january-2026/
URL:https://hayfield-pc.gov.uk/meetings/lhag-meeting-13th-january-2026/
END:VEVENT
END:VCALENDAR
