BEGIN:VCALENDAR
VERSION:2.0
PRODID:-//Hayfield Parish Council//Meeting Calendar//EN
CALSCALE:GREGORIAN
METHOD:PUBLISH
BEGIN:VEVENT
UID:72626-20260401@hayfield-pc.gov.uk
DTSTAMP:20260420T183152Z
DTSTART;VALUE=DATE:20260401
DTEND;VALUE=DATE:20260402
SUMMARY:Full Council Meeting &#8211\\; 1st April 2026
DESCRIPTION:Full Council Meeting\nView details: https://hayfield-pc.gov.uk/meetings/full-council-1st-april-2026/
URL:https://hayfield-pc.gov.uk/meetings/full-council-1st-april-2026/
END:VEVENT
END:VCALENDAR
