BEGIN:VCALENDAR
VERSION:2.0
PRODID:-//Hayfield Parish Council//Meeting Calendar//EN
CALSCALE:GREGORIAN
METHOD:PUBLISH
BEGIN:VEVENT
UID:72628-20260401@hayfield-pc.gov.uk
DTSTAMP:20260420T182848Z
DTSTART;VALUE=DATE:20260401
DTEND;VALUE=DATE:20260402
SUMMARY:Finance Meeting &#8211\\; 1st April 2026
DESCRIPTION:Finance Committee Meeting\nView details: https://hayfield-pc.gov.uk/meetings/finance-1st-april-2026/
URL:https://hayfield-pc.gov.uk/meetings/finance-1st-april-2026/
END:VEVENT
END:VCALENDAR
